BEGIN:VCALENDAR
VERSION:2.0
PRODID:icalendar-ruby
CALSCALE:GREGORIAN
BEGIN:VEVENT
DTSTAMP:20260423T091209Z
UID:48907847-28b7-4d36-ab51-8d2f9fc0a94a
DTSTART;VALUE=DATE:20240312
DESCRIPTION:Property ID# 570565\, Locatoin: 77 Thorndon Quay\, Wellington\,
  Time: 2:00PM
SUMMARY:Auction for 
END:VEVENT
END:VCALENDAR
