BEGIN:VCALENDAR
VERSION:2.0
PRODID:icalendar-ruby
CALSCALE:GREGORIAN
BEGIN:VEVENT
DTSTAMP:20260421T021112Z
UID:3ffdd868-bf43-48af-a958-e206c90ede4a
DTSTART;VALUE=DATE:20220210
DESCRIPTION:Property ID# 525176\, Time: 12:00PM
SUMMARY:Auction for 
END:VEVENT
END:VCALENDAR
