BEGIN:VCALENDAR
VERSION:2.0
PRODID:icalendar-ruby
CALSCALE:GREGORIAN
BEGIN:VEVENT
DTSTAMP:20260420T152207Z
UID:6576c27d-af90-446b-bb2d-031765b2fac7
DTSTART;VALUE=DATE:20211117
DESCRIPTION:Property ID# 520103\, Locatoin: Ray White Auction Room\, 1239 A
 mohia Street\, Rotorua (unless sold prior)\, Time: 1:00PM
SUMMARY:Auction for 
END:VEVENT
END:VCALENDAR
