BEGIN:VCALENDAR
VERSION:2.0
PRODID:icalendar-ruby
CALSCALE:GREGORIAN
BEGIN:VEVENT
DTSTAMP:20260419T141632Z
UID:40d71a47-992a-45ab-8c97-41b3dc21ccd7
DTSTART;VALUE=DATE:20201203
DESCRIPTION:Property ID# 495094\, Time: 2:00PM
SUMMARY:Auction for 
END:VEVENT
END:VCALENDAR
