BEGIN:VCALENDAR
VERSION:2.0
PRODID:icalendar-ruby
CALSCALE:GREGORIAN
BEGIN:VEVENT
DTSTAMP:20191217T140848Z
UID:53826437-d1d3-4684-8d62-451987493370
DTSTART;VALUE=DATE:20190828
DESCRIPTION:Property ID# 436785\, Locatoin: 1231 Ranolf Street\, Rotorua\, 
 Time: 4:00PM
SUMMARY:Auction for 552 Spencer Rd
END:VEVENT
END:VCALENDAR
